BEGIN:VCALENDAR
VERSION:2.0
PRODID:-//Camp Richardson Resort - ECPv6.15.20//NONSGML v1.0//EN
CALSCALE:GREGORIAN
METHOD:PUBLISH
X-ORIGINAL-URL:https://camprichardsonresort.com
X-WR-CALDESC:Events for Camp Richardson Resort
REFRESH-INTERVAL;VALUE=DURATION:PT1H
X-Robots-Tag:noindex
X-PUBLISHED-TTL:PT1H
BEGIN:VTIMEZONE
TZID:UTC
BEGIN:STANDARD
TZOFFSETFROM:+0000
TZOFFSETTO:+0000
TZNAME:UTC
DTSTART:20240101T000000
END:STANDARD
END:VTIMEZONE
BEGIN:VEVENT
DTSTART;TZID=UTC:20250621T130000
DTEND;TZID=UTC:20250621T170000
DTSTAMP:20260424T101522
CREATED:20250513T161835Z
LAST-MODIFIED:20250513T162027Z
UID:10000668-1750510800-1750525200@camprichardsonresort.com
SUMMARY:Miki & The Hooligans
DESCRIPTION:Miki & The Hooligans is playing from 1:00 pm – 5:00 pm. This event is located just outside The Grove Restaurant.
URL:https://camprichardsonresort.com/event/miki-the-hooligans/
LOCATION:The Grove\, 1900 Jameson Beach Rd\, South Lake Tahoe\, CA\, 96150\, United States
CATEGORIES:Live Music
ATTACH;FMTTYPE=image/jpeg:https://camprichardsonresort.com/wp-content/uploads/2023/12/Live-Music.jpg
END:VEVENT
END:VCALENDAR