BEGIN:VCALENDAR
VERSION:2.0
PRODID:-//Camp Richardson Resort - ECPv6.15.20//NONSGML v1.0//EN
CALSCALE:GREGORIAN
METHOD:PUBLISH
X-WR-CALNAME:Camp Richardson Resort
X-ORIGINAL-URL:https://camprichardsonresort.com
X-WR-CALDESC:Events for Camp Richardson Resort
REFRESH-INTERVAL;VALUE=DURATION:PT1H
X-Robots-Tag:noindex
X-PUBLISHED-TTL:PT1H
BEGIN:VTIMEZONE
TZID:UTC
BEGIN:STANDARD
TZOFFSETFROM:+0000
TZOFFSETTO:+0000
TZNAME:UTC
DTSTART:20240101T000000
END:STANDARD
END:VTIMEZONE
BEGIN:VEVENT
DTSTART;TZID=UTC:20251011T160000
DTEND;TZID=UTC:20251011T180000
DTSTAMP:20260420T213617
CREATED:20250919T173551Z
LAST-MODIFIED:20250919T173555Z
UID:10000751-1760198400-1760205600@camprichardsonresort.com
SUMMARY:Tahoe Tommy
DESCRIPTION:Come enjoy Tahoe Tommy from 4:00 pm – 6:00 pm just outside The Grove.
URL:https://camprichardsonresort.com/event/tahoe-tommy-16/
LOCATION:The Grove\, 1900 Jameson Beach Rd\, South Lake Tahoe\, CA\, 96150\, United States
CATEGORIES:Live Music
ATTACH;FMTTYPE=image/jpeg:https://camprichardsonresort.com/wp-content/uploads/2023/12/Live-Music.jpg
END:VEVENT
BEGIN:VEVENT
DTSTART;TZID=UTC:20251018T160000
DTEND;TZID=UTC:20251018T180000
DTSTAMP:20260420T213617
CREATED:20250919T173615Z
LAST-MODIFIED:20250919T173623Z
UID:10000752-1760803200-1760810400@camprichardsonresort.com
SUMMARY:Tahoe Tommy
DESCRIPTION:Come enjoy Tahoe Tommy from 4:00 pm – 6:00 pm just outside The Grove.
URL:https://camprichardsonresort.com/event/tahoe-tommy-17/
LOCATION:The Grove\, 1900 Jameson Beach Rd\, South Lake Tahoe\, CA\, 96150\, United States
CATEGORIES:Live Music
ATTACH;FMTTYPE=image/jpeg:https://camprichardsonresort.com/wp-content/uploads/2023/12/Live-Music.jpg
END:VEVENT
BEGIN:VEVENT
DTSTART;TZID=UTC:20251025T160000
DTEND;TZID=UTC:20251025T180000
DTSTAMP:20260420T213617
CREATED:20250919T173658Z
LAST-MODIFIED:20250919T173703Z
UID:10000753-1761408000-1761415200@camprichardsonresort.com
SUMMARY:Shawn Campanini
DESCRIPTION:Come enjoy Shawn Campanini from 4:00 pm – 6:00 pm just outside The Grove.
URL:https://camprichardsonresort.com/event/shawn-campanini-7/
LOCATION:The Grove\, 1900 Jameson Beach Rd\, South Lake Tahoe\, CA\, 96150\, United States
CATEGORIES:Live Music
ATTACH;FMTTYPE=image/jpeg:https://camprichardsonresort.com/wp-content/uploads/2023/12/Live-Music.jpg
END:VEVENT
BEGIN:VEVENT
DTSTART;TZID=UTC:20251108T160000
DTEND;TZID=UTC:20251108T180000
DTSTAMP:20260420T213617
CREATED:20251013T160030Z
LAST-MODIFIED:20251013T160506Z
UID:10000754-1762617600-1762624800@camprichardsonresort.com
SUMMARY:Tahoe Tommy
DESCRIPTION:Come out to The Grove and see Tahoe Tommy from 4:00 pm – 6:00 pm.
URL:https://camprichardsonresort.com/event/tahoe-tommy-18/
LOCATION:The Grove\, 1900 Jameson Beach Rd\, South Lake Tahoe\, CA\, 96150\, United States
CATEGORIES:Live Music
ATTACH;FMTTYPE=image/jpeg:https://camprichardsonresort.com/wp-content/uploads/2023/12/Live-Music.jpg
END:VEVENT
BEGIN:VEVENT
DTSTART;TZID=UTC:20251115T160000
DTEND;TZID=UTC:20251115T180000
DTSTAMP:20260420T213617
CREATED:20251013T160150Z
LAST-MODIFIED:20251013T160445Z
UID:10000755-1763222400-1763229600@camprichardsonresort.com
SUMMARY:Davin Kangas
DESCRIPTION:Come out to The Grove and see Davin Kangas from 4:00 pm – 6:00 pm.
URL:https://camprichardsonresort.com/event/davin-kangas-8/
LOCATION:The Grove\, 1900 Jameson Beach Rd\, South Lake Tahoe\, CA\, 96150\, United States
CATEGORIES:Live Music
ATTACH;FMTTYPE=image/jpeg:https://camprichardsonresort.com/wp-content/uploads/2023/12/Live-Music.jpg
END:VEVENT
BEGIN:VEVENT
DTSTART;TZID=UTC:20251122T160000
DTEND;TZID=UTC:20251122T180000
DTSTAMP:20260420T213617
CREATED:20251013T160221Z
LAST-MODIFIED:20251013T160303Z
UID:10000756-1763827200-1763834400@camprichardsonresort.com
SUMMARY:Kyle Kirch
DESCRIPTION:Come out to The Grove and see Kyle Kirch from 4:00 pm – 6:00 pm.
URL:https://camprichardsonresort.com/event/kyle-kirch/
LOCATION:The Grove\, 1900 Jameson Beach Rd\, South Lake Tahoe\, CA\, 96150\, United States
CATEGORIES:Live Music
ATTACH;FMTTYPE=image/jpeg:https://camprichardsonresort.com/wp-content/uploads/2023/12/Live-Music.jpg
END:VEVENT
BEGIN:VEVENT
DTSTART;TZID=UTC:20251129T160000
DTEND;TZID=UTC:20251129T180000
DTSTAMP:20260420T213617
CREATED:20251013T160354Z
LAST-MODIFIED:20251013T160413Z
UID:10000757-1764432000-1764439200@camprichardsonresort.com
SUMMARY:Just Josh
DESCRIPTION:Come out to The Grove and see Just Josh from 4:00 pm – 6:00 pm.
URL:https://camprichardsonresort.com/event/just-josh-4/
LOCATION:The Grove\, 1900 Jameson Beach Rd\, South Lake Tahoe\, CA\, 96150\, United States
CATEGORIES:Live Music
ATTACH;FMTTYPE=image/jpeg:https://camprichardsonresort.com/wp-content/uploads/2023/12/Live-Music.jpg
END:VEVENT
BEGIN:VEVENT
DTSTART;TZID=UTC:20260214T160000
DTEND;TZID=UTC:20260214T180000
DTSTAMP:20260420T213617
CREATED:20260119T190129Z
LAST-MODIFIED:20260119T190129Z
UID:10000765-1771084800-1771092000@camprichardsonresort.com
SUMMARY:Tahoe Tommy
DESCRIPTION:Come out to The Grove and see Tahoe Tommy from 4:00 pm – 6:00 pm.
URL:https://camprichardsonresort.com/event/tahoetommy/
LOCATION:The Grove\, 1900 Jameson Beach Rd\, South Lake Tahoe\, CA\, 96150\, United States
CATEGORIES:Live Music
ATTACH;FMTTYPE=image/jpeg:https://camprichardsonresort.com/wp-content/uploads/2023/12/Live-Music.jpg
END:VEVENT
BEGIN:VEVENT
DTSTART;TZID=UTC:20260221T160000
DTEND;TZID=UTC:20260221T180000
DTSTAMP:20260420T213617
CREATED:20260119T190218Z
LAST-MODIFIED:20260119T190218Z
UID:10000766-1771689600-1771696800@camprichardsonresort.com
SUMMARY:Davin Kangas
DESCRIPTION:Come out to The Grove and see Davin Kangas from 4:00 pm – 6:00 pm.
URL:https://camprichardsonresort.com/event/davin-kangas-9/
LOCATION:The Grove\, 1900 Jameson Beach Rd\, South Lake Tahoe\, CA\, 96150\, United States
CATEGORIES:Live Music
ATTACH;FMTTYPE=image/jpeg:https://camprichardsonresort.com/wp-content/uploads/2023/12/Live-Music.jpg
END:VEVENT
BEGIN:VEVENT
DTSTART;TZID=UTC:20260228T160000
DTEND;TZID=UTC:20260228T180000
DTSTAMP:20260420T213617
CREATED:20260119T190306Z
LAST-MODIFIED:20260119T190346Z
UID:10000767-1772294400-1772301600@camprichardsonresort.com
SUMMARY:Shawn Campanini
DESCRIPTION:Come out to The Grove and see Shawn Campanini from 4:00 pm – 6:00 pm.
URL:https://camprichardsonresort.com/event/shawn-campanini-8/
LOCATION:The Grove\, 1900 Jameson Beach Rd\, South Lake Tahoe\, CA\, 96150\, United States
CATEGORIES:Live Music
ATTACH;FMTTYPE=image/jpeg:https://camprichardsonresort.com/wp-content/uploads/2023/12/Live-Music.jpg
END:VEVENT
BEGIN:VEVENT
DTSTART;TZID=UTC:20260321T160000
DTEND;TZID=UTC:20260321T180000
DTSTAMP:20260420T213617
CREATED:20260316T193759Z
LAST-MODIFIED:20260316T193947Z
UID:10000768-1774108800-1774116000@camprichardsonresort.com
SUMMARY:Sean Hodge
DESCRIPTION:Come out to The Grove and see Sean Hodge from 4:00 pm – 6:00 pm.
URL:https://camprichardsonresort.com/event/sean-hodge/
LOCATION:The Grove\, 1900 Jameson Beach Rd\, South Lake Tahoe\, CA\, 96150\, United States
CATEGORIES:Live Music
ATTACH;FMTTYPE=image/jpeg:https://camprichardsonresort.com/wp-content/uploads/2023/12/Live-Music.jpg
END:VEVENT
BEGIN:VEVENT
DTSTART;TZID=UTC:20260328T160000
DTEND;TZID=UTC:20260328T180000
DTSTAMP:20260420T213617
CREATED:20260316T193911Z
LAST-MODIFIED:20260316T193911Z
UID:10000769-1774713600-1774720800@camprichardsonresort.com
SUMMARY:Davin Kangas
DESCRIPTION:Come out to The Grove and see Davin Kangas from 4:00 pm – 6:00 pm.
URL:https://camprichardsonresort.com/event/davin-kangas-10/
LOCATION:The Grove\, 1900 Jameson Beach Rd\, South Lake Tahoe\, CA\, 96150\, United States
CATEGORIES:Live Music
ATTACH;FMTTYPE=image/jpeg:https://camprichardsonresort.com/wp-content/uploads/2023/12/Live-Music.jpg
END:VEVENT
BEGIN:VEVENT
DTSTART;TZID=UTC:20260404T160000
DTEND;TZID=UTC:20260404T180000
DTSTAMP:20260420T213617
CREATED:20260316T194045Z
LAST-MODIFIED:20260316T194045Z
UID:10000770-1775318400-1775325600@camprichardsonresort.com
SUMMARY:Kyle Kirch
DESCRIPTION:Come out to The Grove and see Kyle Kirch from 4:00 pm – 6:00 pm.
URL:https://camprichardsonresort.com/event/kyle-kirch-2/
LOCATION:The Grove\, 1900 Jameson Beach Rd\, South Lake Tahoe\, CA\, 96150\, United States
CATEGORIES:Live Music
ATTACH;FMTTYPE=image/jpeg:https://camprichardsonresort.com/wp-content/uploads/2023/12/Live-Music.jpg
END:VEVENT
BEGIN:VEVENT
DTSTART;TZID=UTC:20260418T160000
DTEND;TZID=UTC:20260418T180000
DTSTAMP:20260420T213617
CREATED:20260316T194250Z
LAST-MODIFIED:20260316T194250Z
UID:10000771-1776528000-1776535200@camprichardsonresort.com
SUMMARY:Davin Kangas
DESCRIPTION:Come out to The Grove and see Davin Kangas from 4:00 pm – 6:00 pm.
URL:https://camprichardsonresort.com/event/davin-kangas-11/
LOCATION:The Grove\, 1900 Jameson Beach Rd\, South Lake Tahoe\, CA\, 96150\, United States
CATEGORIES:Live Music
ATTACH;FMTTYPE=image/jpeg:https://camprichardsonresort.com/wp-content/uploads/2023/12/Live-Music.jpg
END:VEVENT
BEGIN:VEVENT
DTSTART;TZID=UTC:20260425T160000
DTEND;TZID=UTC:20260425T180000
DTSTAMP:20260420T213617
CREATED:20260316T194341Z
LAST-MODIFIED:20260316T194341Z
UID:10000772-1777132800-1777140000@camprichardsonresort.com
SUMMARY:Shawn Campanini
DESCRIPTION:Come out to The Grove and see Shawn Campanini from 4:00 pm – 6:00 pm.
URL:https://camprichardsonresort.com/event/shawn-campanini-9/
LOCATION:The Grove\, 1900 Jameson Beach Rd\, South Lake Tahoe\, CA\, 96150\, United States
CATEGORIES:Live Music
ATTACH;FMTTYPE=image/jpeg:https://camprichardsonresort.com/wp-content/uploads/2023/12/Live-Music.jpg
END:VEVENT
BEGIN:VEVENT
DTSTART;TZID=UTC:20260509T170000
DTEND;TZID=UTC:20260509T190000
DTSTAMP:20260420T213617
CREATED:20260420T153422Z
LAST-MODIFIED:20260420T154107Z
UID:10000774-1778346000-1778353200@camprichardsonresort.com
SUMMARY:Davin Kangas
DESCRIPTION:Join us just outside the Grove Restaurant for a performance by Davin Kangas.
URL:https://camprichardsonresort.com/event/davin-kangas-12/
LOCATION:The Grove\, 1900 Jameson Beach Rd\, South Lake Tahoe\, CA\, 96150\, United States
CATEGORIES:Live Music
ATTACH;FMTTYPE=image/jpeg:https://camprichardsonresort.com/wp-content/uploads/2023/12/Live-Music.jpg
END:VEVENT
BEGIN:VEVENT
DTSTART;TZID=UTC:20260515T170000
DTEND;TZID=UTC:20260515T190000
DTSTAMP:20260420T213617
CREATED:20260420T154715Z
LAST-MODIFIED:20260420T154715Z
UID:10000775-1778864400-1778871600@camprichardsonresort.com
SUMMARY:Shawn Campanini
DESCRIPTION:Join us just outside the Grove Restaurant for a performance by Shawn Campanini.
URL:https://camprichardsonresort.com/event/shawn-campanini-10/
LOCATION:The Grove\, 1900 Jameson Beach Rd\, South Lake Tahoe\, CA\, 96150\, United States
CATEGORIES:Live Music
ATTACH;FMTTYPE=image/jpeg:https://camprichardsonresort.com/wp-content/uploads/2023/12/Live-Music.jpg
END:VEVENT
BEGIN:VEVENT
DTSTART;TZID=UTC:20260516T130000
DTEND;TZID=UTC:20260516T170000
DTSTAMP:20260420T213617
CREATED:20260420T155148Z
LAST-MODIFIED:20260420T155148Z
UID:10000776-1778936400-1778950800@camprichardsonresort.com
SUMMARY:Cash Only Band
DESCRIPTION:Join us just outside the Grove Restaurant for a performance by Cash Only Band.
URL:https://camprichardsonresort.com/event/cash-only-band-9/
LOCATION:The Grove\, 1900 Jameson Beach Rd\, South Lake Tahoe\, CA\, 96150\, United States
CATEGORIES:Live Music
ATTACH;FMTTYPE=image/jpeg:https://camprichardsonresort.com/wp-content/uploads/2023/12/Live-Music.jpg
END:VEVENT
BEGIN:VEVENT
DTSTART;TZID=UTC:20260517T130000
DTEND;TZID=UTC:20260517T170000
DTSTAMP:20260420T213617
CREATED:20260420T155858Z
LAST-MODIFIED:20260420T155858Z
UID:10000777-1779022800-1779037200@camprichardsonresort.com
SUMMARY:Patrick Walsh
DESCRIPTION:Join us just outside the Grove Restaurant for a performance by Patrick Walsh.
URL:https://camprichardsonresort.com/event/patrick-walsh/
LOCATION:The Grove\, 1900 Jameson Beach Rd\, South Lake Tahoe\, CA\, 96150\, United States
CATEGORIES:Live Music
ATTACH;FMTTYPE=image/jpeg:https://camprichardsonresort.com/wp-content/uploads/2023/12/Live-Music.jpg
END:VEVENT
BEGIN:VEVENT
DTSTART;TZID=UTC:20260522T170000
DTEND;TZID=UTC:20260522T190000
DTSTAMP:20260420T213617
CREATED:20260420T160037Z
LAST-MODIFIED:20260420T160037Z
UID:10000778-1779469200-1779476400@camprichardsonresort.com
SUMMARY:Tahoe Tommy
DESCRIPTION:Join us just outside the Grove Restaurant for a performance by Tahoe Tommy.
URL:https://camprichardsonresort.com/event/tahoe-tommy-19/
LOCATION:The Grove\, 1900 Jameson Beach Rd\, South Lake Tahoe\, CA\, 96150\, United States
CATEGORIES:Live Music
ATTACH;FMTTYPE=image/jpeg:https://camprichardsonresort.com/wp-content/uploads/2023/12/Live-Music.jpg
END:VEVENT
BEGIN:VEVENT
DTSTART;TZID=UTC:20260523T130000
DTEND;TZID=UTC:20260523T170000
DTSTAMP:20260420T213617
CREATED:20260420T160314Z
LAST-MODIFIED:20260420T160314Z
UID:10000779-1779541200-1779555600@camprichardsonresort.com
SUMMARY:Trey Stone Band
DESCRIPTION:Join us just outside the Grove Restaurant for a performance by Trey Stone Band.
URL:https://camprichardsonresort.com/event/trey-stone-band-6/
LOCATION:The Grove\, 1900 Jameson Beach Rd\, South Lake Tahoe\, CA\, 96150\, United States
CATEGORIES:Live Music
ATTACH;FMTTYPE=image/jpeg:https://camprichardsonresort.com/wp-content/uploads/2023/12/Live-Music.jpg
END:VEVENT
BEGIN:VEVENT
DTSTART;TZID=UTC:20260524T130000
DTEND;TZID=UTC:20260524T170000
DTSTAMP:20260420T213617
CREATED:20260420T160822Z
LAST-MODIFIED:20260420T160822Z
UID:10000780-1779627600-1779642000@camprichardsonresort.com
SUMMARY:Tahoe Tommy Band
DESCRIPTION:Join us just outside the Grove Restaurant for a performance by Tahoe Tommy Band.
URL:https://camprichardsonresort.com/event/tahoe-tommy-band/
LOCATION:The Grove\, 1900 Jameson Beach Rd\, South Lake Tahoe\, CA\, 96150\, United States
CATEGORIES:Live Music
ATTACH;FMTTYPE=image/jpeg:https://camprichardsonresort.com/wp-content/uploads/2023/12/Live-Music.jpg
END:VEVENT
BEGIN:VEVENT
DTSTART;TZID=UTC:20260525T130000
DTEND;TZID=UTC:20260525T170000
DTSTAMP:20260420T213617
CREATED:20260420T161330Z
LAST-MODIFIED:20260420T161330Z
UID:10000781-1779714000-1779728400@camprichardsonresort.com
SUMMARY:Whiskey & Wolves
DESCRIPTION:Join us just outside the Grove Restaurant for a performance by Whiskey & Wolves.
URL:https://camprichardsonresort.com/event/whiskey-wolves/
LOCATION:The Grove\, 1900 Jameson Beach Rd\, South Lake Tahoe\, CA\, 96150\, United States
CATEGORIES:Live Music
ATTACH;FMTTYPE=image/jpeg:https://camprichardsonresort.com/wp-content/uploads/2023/12/Live-Music.jpg
END:VEVENT
BEGIN:VEVENT
DTSTART;TZID=UTC:20260529T170000
DTEND;TZID=UTC:20260529T190000
DTSTAMP:20260420T213617
CREATED:20260420T161705Z
LAST-MODIFIED:20260420T161705Z
UID:10000782-1780074000-1780081200@camprichardsonresort.com
SUMMARY:Sean Hodge
DESCRIPTION:Join us just outside the Grove Restaurant for a performance by Sean Hodge.
URL:https://camprichardsonresort.com/event/sean-hodge-2/
LOCATION:The Grove\, 1900 Jameson Beach Rd\, South Lake Tahoe\, CA\, 96150\, United States
CATEGORIES:Live Music
ATTACH;FMTTYPE=image/jpeg:https://camprichardsonresort.com/wp-content/uploads/2023/12/Live-Music.jpg
END:VEVENT
BEGIN:VEVENT
DTSTART;TZID=UTC:20260530T080000
DTEND;TZID=UTC:20260530T170000
DTSTAMP:20260420T213617
CREATED:20260420T162221Z
LAST-MODIFIED:20260420T162221Z
UID:10000783-1780128000-1780160400@camprichardsonresort.com
SUMMARY:AcustaGruve
DESCRIPTION:Join us just outside the Grove Restaurant for a performance by AcustaGruve.
URL:https://camprichardsonresort.com/event/acustagruve-6/
LOCATION:The Grove\, 1900 Jameson Beach Rd\, South Lake Tahoe\, CA\, 96150\, United States
CATEGORIES:Live Music
ATTACH;FMTTYPE=image/jpeg:https://camprichardsonresort.com/wp-content/uploads/2023/12/Live-Music.jpg
END:VEVENT
BEGIN:VEVENT
DTSTART;TZID=UTC:20260531T130000
DTEND;TZID=UTC:20260531T170000
DTSTAMP:20260420T213617
CREATED:20260420T162555Z
LAST-MODIFIED:20260420T162555Z
UID:10000784-1780232400-1780246800@camprichardsonresort.com
SUMMARY:Cash Only Band
DESCRIPTION:Join us just outside the Grove Restaurant for a performance by Cash Only Band.
URL:https://camprichardsonresort.com/event/cash-only-band-10/
LOCATION:The Grove\, 1900 Jameson Beach Rd\, South Lake Tahoe\, CA\, 96150\, United States
CATEGORIES:Live Music
ATTACH;FMTTYPE=image/jpeg:https://camprichardsonresort.com/wp-content/uploads/2023/12/Live-Music.jpg
END:VEVENT
END:VCALENDAR